BEGIN:VCALENDAR
VERSION:2.0
PRODID:-//wp-events-plugin.com//7.2.3.1//EN
TZID:Europe/Berlin
X-WR-TIMEZONE:Europe/Berlin
BEGIN:VEVENT
UID:5@yaleclub.de
DTSTART;TZID=Europe/Berlin:20161103T190000
DTEND;TZID=Europe/Berlin:20161103T210000
DTSTAMP:20160903T180620Z
URL:https://www.yaleclub.de/events/ivy-stammtisch-berlin-nov-3rd/
SUMMARY:Ivy+ Stammtisch Berlin Nov 3rd
DESCRIPTION:We are inviting the Yale Alumni community of Berlin (and the me
 mbers of the IvyCircle.de) to join us for our Berlin Stammtisch\, for some
  good conversation over drinks.\n\nWe are meeting every first Thursday of 
 the month from 7-9pm\, Location TBA (will be announced here).\n\n&nbsp\;\n
 \nImage credits: By Takeaway (Own work) [CC BY-SA 3.0]\, via Wikimedia Com
 mons
ATTACH;FMTTYPE=image/jpeg:https://www.yaleclub.de/wp-content/uploads/2016/
 08/800px-2013_Stammtisch_sign_Munich_pub.jpg
CATEGORIES:Berlin
END:VEVENT
BEGIN:VTIMEZONE
TZID:Europe/Berlin
X-LIC-LOCATION:Europe/Berlin
BEGIN:STANDARD
DTSTART:20161030T020000
TZOFFSETFROM:+0200
TZOFFSETTO:+0100
TZNAME:CET
END:STANDARD
END:VTIMEZONE
END:VCALENDAR